BEGIN:VCALENDAR
PRODID:-//github.com/rianjs/ical.net//NONSGML ical.net 4.0//EN
VERSION:2.0
BEGIN:VTIMEZONE
TZID:Eastern Standard Time
X-LIC-LOCATION:America/New_York
BEGIN:STANDARD
DTSTART:20241103T020000
RRULE:FREQ=YEARLY;BYDAY=1SU;BYMONTH=11
TZNAME:EST
TZOFFSETFROM:-0400
TZOFFSETTO:-0500
END:STANDARD
BEGIN:DAYLIGHT
DTSTART:20250309T020000
RRULE:FREQ=YEARLY;BYDAY=2SU;BYMONTH=3
TZNAME:EDT
TZOFFSETFROM:-0500
TZOFFSETTO:-0400
END:DAYLIGHT
END:VTIMEZONE
BEGIN:VEVENT
DTEND;TZID=Eastern Standard Time:20260804T170000
DTSTAMP:20260424T011510Z
DTSTART;TZID=Eastern Standard Time:20260804T083000
LOCATION:Westlake at Morganton 3311 Woodhill Lane Fayetteville\, NC 28314 
 United States
ORGANIZER;CN=;SENT-BY="mailto:":
SEQUENCE:0
SUMMARY:GFAA: CFC/HVAC Certification (EPA 608) - August 2026
UID:8e0959f7-df66-429f-ae58-ad6fb6410d42
END:VEVENT
END:VCALENDAR
