BEGIN:VCALENDAR
PRODID:-//github.com/rianjs/ical.net//NONSGML ical.net 4.0//EN
VERSION:2.0
BEGIN:VTIMEZONE
TZID:Eastern Standard Time
X-LIC-LOCATION:America/New_York
BEGIN:STANDARD
DTSTART:20241103T020000
RRULE:FREQ=YEARLY;BYDAY=1SU;BYMONTH=11
TZNAME:EST
TZOFFSETFROM:-0400
TZOFFSETTO:-0500
END:STANDARD
BEGIN:DAYLIGHT
DTSTART:20250309T020000
RRULE:FREQ=YEARLY;BYDAY=2SU;BYMONTH=3
TZNAME:EDT
TZOFFSETFROM:-0500
TZOFFSETTO:-0400
END:DAYLIGHT
END:VTIMEZONE
BEGIN:VEVENT
DTEND;TZID=Eastern Standard Time:20261023T170000
DTSTAMP:20260423T212717Z
DTSTART;TZID=Eastern Standard Time:20261019T090000
LOCATION:None
ORGANIZER;CN=;SENT-BY="mailto:":
SEQUENCE:0
SUMMARY:GFAA: 2026 CAMT: Certified Apartment Maintenance Technician
UID:f0aa0ff2-bb72-4e9c-97d5-014a364b7e6e
END:VEVENT
END:VCALENDAR
